BEGIN:VCALENDAR
VERSION:2.0
PRODID:-//wp-events-plugin.com//7.2.3.1//EN
TZID:Europe/Berlin
X-WR-TIMEZONE:Europe/Berlin
BEGIN:VEVENT
UID:143@badische-schwertspieler.de
DTSTART;TZID=Europe/Berlin:20251004T100000
DTEND;TZID=Europe/Berlin:20251004T160000
DTSTAMP:20250915T095729Z
URL:https://badische-schwertspieler.de/events/reservierung-tanzworkshop/
SUMMARY:Tanzworkshop
DESCRIPTION:Hallo zusammen\,\n\ndies ist unser erster Tanzworkshop im Verei
 nsheim. Die Teilnehmeranzahl ist aus Platzgründen auf 16 Tänzer beschrä
 nkt. Schwerpunkt der Tänze sind die im LARP verbreiteten Tänze wie:\n\nC
 andle in the dark\n\nRed House\n\nMulberry Garden\n\nFour Pence half-Penny
 \n\nScales of Justice\n\n...\n\nsowie einige neue Tänze (All Who Wander\,
  An Improper Notion\, ...)\n\nwenn jemand einen speziellen Wunsch hat\, ka
 nn er dies bei der Anmeldung mit reinschreiben.\n\n&nbsp\;\n\nder Unkosten
  Beitrag beträgt 15\,- Euro (darin Enthalten VereinsheimMiete\, Getränke
 ). \n\nZahlung bar vor Ort oder per Paypal ´"daniel@bartelme.de" .\n\nvon
  13:00 Uhr - 13:30 Uhr gibt es eine Pause für Essen. Wer will kann bestel
 len oder bringt sich selbst was mit.\n\nPlätze solange vorhanden. Wer sic
 h anmeldet\, bringt bitte auch die Bereitschaft mit\, 5-6 Stunden zu tanze
 n.\n\n&nbsp\;\n\nGruß Daniel\n\nTanzmeister und Orga\n\n&nbsp\;\n\n&nbsp\
 ;\n\n[fluentform id="11"]
CATEGORIES:Tanzen im VH,Vereinsheim Belegung
LOCATION:Vereinsheim der Badischen Schwertspieler 1990 e.V.\, Hardtstraße 
 37a\, Karlsruhe-Mühlburg\, Baden-Wüttenberg\, 76185\, Deutschland
X-APPLE-STRUCTURED-LOCATION;VALUE=URI;X-ADDRESS=Hardtstraße 37a\, Karlsruh
 e-Mühlburg\, Baden-Wüttenberg\, 76185\, Deutschland;X-APPLE-RADIUS=100;X
 -TITLE=Vereinsheim der Badischen Schwertspieler 1990 e.V.:geo:0,0
END:VEVENT
BEGIN:VTIMEZONE
TZID:Europe/Berlin
X-LIC-LOCATION:Europe/Berlin
BEGIN:DAYLIGHT
DTSTART:20250330T030000
TZOFFSETFROM:+0100
TZOFFSETTO:+0200
TZNAME:CEST
END:DAYLIGHT
END:VTIMEZONE
END:VCALENDAR