BEGIN:VCALENDAR
VERSION:2.0
PRODID:-//wp-events-plugin.com//7.2.3.1//EN
TZID:Europe/Berlin
X-WR-TIMEZONE:Europe/Berlin
BEGIN:VEVENT
UID:40@badische-schwertspieler.de
DTSTART;TZID=Europe/Berlin:20250919T000000
DTEND;TZID=Europe/Berlin:20250921T000000
DTSTAMP:20250819T100625Z
URL:https://badische-schwertspieler.de/events/altstadtfest-gernsbach/
SUMMARY:Altstadtfest Gernsbach
DESCRIPTION:
CATEGORIES:Externe sonstige Veranstaltungen
END:VEVENT
BEGIN:VTIMEZONE
TZID:Europe/Berlin
X-LIC-LOCATION:Europe/Berlin
BEGIN:DAYLIGHT
DTSTART:20250330T030000
TZOFFSETFROM:+0100
TZOFFSETTO:+0200
TZNAME:CEST
END:DAYLIGHT
END:VTIMEZONE
END:VCALENDAR