BEGIN:VCALENDAR
VERSION:2.0
PRODID:-//wp-events-plugin.com//7.2.3.1//EN
TZID:Europe/Berlin
X-WR-TIMEZONE:Europe/Berlin
BEGIN:VEVENT
UID:50@badische-schwertspieler.de
DTSTART;TZID=Europe/Berlin:20250329T100000
DTEND;TZID=Europe/Berlin:20250329T160000
DTSTAMP:20241218T090625Z
URL:https://badische-schwertspieler.de/events/5-mittelalter-und-larpflohma
 rkt/
SUMMARY:5. Mittelalter- und LARP-Flohmarkt
DESCRIPTION:Wir\, der Verein der Badischen Schwertspieler 1990 e.V.\, veran
 stalten unseren 5. LARP- und Mittelalter-Flohmarkt am 29.03.2025 von 10 Uh
 r bis 16 Uhr. Das Event richtet sich sowohl an lange und altgediente Larpe
 r\, Mittelalterinteressierte\, Marktgängern\, wie auch an Neuanfänger\, 
 in unserem geliebten Hobby. Stattfinden wird dieser Flohmarkt vor/in unser
 em Vereinsheim in der Hardtstraße 37A in Karlsruhe Mühlburg.\nWeiter wer
 den wir unser Vereinsheim an diesem Tag offen haben und einen entsprechend
 en Ort der Begegnung und des Austausches zur Verfügung stellen. Dort wird
  es auch Speis und Trank geben.\nDie Veranstaltung findet auch bei Regen s
 tatt.\nAnmeldeformular für Stände:\nFlohmarkt Externe_Anmeldung
CATEGORIES:Sonstiges,Vereinsheim Belegung
LOCATION:Vereinsheim der Badischen Schwertspieler 1990 e.V.\, Hardtstraße 
 37a\, Karlsruhe-Mühlburg\, Baden-Wüttenberg\, 76185\, Deutschland
X-APPLE-STRUCTURED-LOCATION;VALUE=URI;X-ADDRESS=Hardtstraße 37a\, Karlsruh
 e-Mühlburg\, Baden-Wüttenberg\, 76185\, Deutschland;X-APPLE-RADIUS=100;X
 -TITLE=Vereinsheim der Badischen Schwertspieler 1990 e.V.:geo:0,0
END:VEVENT
BEGIN:VTIMEZONE
TZID:Europe/Berlin
X-LIC-LOCATION:Europe/Berlin
BEGIN:STANDARD
DTSTART:20241027T020000
TZOFFSETFROM:+0200
TZOFFSETTO:+0100
TZNAME:CET
END:STANDARD
END:VTIMEZONE
END:VCALENDAR