BEGIN:VCALENDAR
VERSION:2.0
PRODID:-//wp-events-plugin.com//7.2.3.1//EN
TZID:Europe/Berlin
X-WR-TIMEZONE:Europe/Berlin
BEGIN:VEVENT
UID:1@badische-schwertspieler.de
DTSTART;TZID=Europe/Berlin:20240323T100000
DTEND;TZID=Europe/Berlin:20240323T160000
DTSTAMP:20240229T204617Z
URL:https://badische-schwertspieler.de/events/3-mittelalter-und-larpflohma
 rkt/
SUMMARY:3. Mittelalter- und Larpflohmarkt
DESCRIPTION:
CATEGORIES:Sonstiges,Vereinsheim Belegung
LOCATION:Vereinsheim der Badischen Schwertspieler 1990 e.V.\, Hardtstraße 
 37a\, Karlsruhe-Mühlburg\, Baden-Wüttenberg\, 76185\, Deutschland
X-APPLE-STRUCTURED-LOCATION;VALUE=URI;X-ADDRESS=Hardtstraße 37a\, Karlsruh
 e-Mühlburg\, Baden-Wüttenberg\, 76185\, Deutschland;X-APPLE-RADIUS=100;X
 -TITLE=Vereinsheim der Badischen Schwertspieler 1990 e.V.:geo:0,0
END:VEVENT
BEGIN:VTIMEZONE
TZID:Europe/Berlin
X-LIC-LOCATION:Europe/Berlin
BEGIN:STANDARD
DTSTART:20231029T020000
TZOFFSETFROM:+0200
TZOFFSETTO:+0100
TZNAME:CET
END:STANDARD
END:VTIMEZONE
END:VCALENDAR